BEGIN:VCALENDAR
VERSION:2.0
PRODID:-//C4 Innovations - ECPv6.15.17.1//NONSGML v1.0//EN
CALSCALE:GREGORIAN
METHOD:PUBLISH
X-WR-CALNAME:C4 Innovations
X-ORIGINAL-URL:https://c4innovates.com
X-WR-CALDESC:Events for C4 Innovations
REFRESH-INTERVAL;VALUE=DURATION:PT1H
X-Robots-Tag:noindex
X-PUBLISHED-TTL:PT1H
BEGIN:VTIMEZONE
TZID:America/New_York
BEGIN:DAYLIGHT
TZOFFSETFROM:-0500
TZOFFSETTO:-0400
TZNAME:EDT
DTSTART:20250309T070000
END:DAYLIGHT
BEGIN:STANDARD
TZOFFSETFROM:-0400
TZOFFSETTO:-0500
TZNAME:EST
DTSTART:20251102T060000
END:STANDARD
BEGIN:DAYLIGHT
TZOFFSETFROM:-0500
TZOFFSETTO:-0400
TZNAME:EDT
DTSTART:20260308T070000
END:DAYLIGHT
BEGIN:STANDARD
TZOFFSETFROM:-0400
TZOFFSETTO:-0500
TZNAME:EST
DTSTART:20261101T060000
END:STANDARD
BEGIN:DAYLIGHT
TZOFFSETFROM:-0500
TZOFFSETTO:-0400
TZNAME:EDT
DTSTART:20270314T070000
END:DAYLIGHT
BEGIN:STANDARD
TZOFFSETFROM:-0400
TZOFFSETTO:-0500
TZNAME:EST
DTSTART:20271107T060000
END:STANDARD
END:VTIMEZONE
BEGIN:VEVENT
DTSTART;TZID=America/New_York:20260707T160000
DTEND;TZID=America/New_York:20260707T200000
DTSTAMP:20260423T122947
CREATED:20260414T195530Z
LAST-MODIFIED:20260414T195530Z
UID:10000825-1783440000-1783454400@c4innovates.com
SUMMARY:Certified Peer Recovery Specialist Training
DESCRIPTION:This RI Department of Behavioral Healthcare\, Developmental Disabilities\, and Hospitals 46-hour Certified Peer Recovery Specialist (CPRS) training is designed to prepare individuals with lived experience in mental health or substance use recovery to support others. The curriculum focuses on four core domains: advocacy\, mentoring and education\, recovery and wellness support\, and ethical responsibility. \n  \nBy offering insight into the recovery process based on their own experience\, peer recovery specialists are able to provide a unique perspective while providing recovery support services. The CPRS is not a sponsor\, case manager\, or a therapist\, but rather a role model\, mentor\, advocate\, and motivator. \n  \nLearn more and register. \n  \nTrainer: Stacy Levin\, RICARES \n 
URL:https://c4innovates.com/event/certified-peer-recovery-specialist-training-4/2026-07-07/
LOCATION:RICARES\, 166 Valley Street\, Suite 105\, Providence\, RI\, 02909\, United States
ORGANIZER;CN="RICARES":MAILTO:slevin@ricares.org
END:VEVENT
BEGIN:VEVENT
DTSTART;TZID=America/New_York:20260709T160000
DTEND;TZID=America/New_York:20260709T200000
DTSTAMP:20260423T122947
CREATED:20260414T195530Z
LAST-MODIFIED:20260414T195530Z
UID:10000826-1783612800-1783627200@c4innovates.com
SUMMARY:Certified Peer Recovery Specialist Training
DESCRIPTION:This RI Department of Behavioral Healthcare\, Developmental Disabilities\, and Hospitals 46-hour Certified Peer Recovery Specialist (CPRS) training is designed to prepare individuals with lived experience in mental health or substance use recovery to support others. The curriculum focuses on four core domains: advocacy\, mentoring and education\, recovery and wellness support\, and ethical responsibility. \n  \nBy offering insight into the recovery process based on their own experience\, peer recovery specialists are able to provide a unique perspective while providing recovery support services. The CPRS is not a sponsor\, case manager\, or a therapist\, but rather a role model\, mentor\, advocate\, and motivator. \n  \nLearn more and register. \n  \nTrainer: Stacy Levin\, RICARES \n 
URL:https://c4innovates.com/event/certified-peer-recovery-specialist-training-4/2026-07-09/
LOCATION:RICARES\, 166 Valley Street\, Suite 105\, Providence\, RI\, 02909\, United States
ORGANIZER;CN="RICARES":MAILTO:slevin@ricares.org
END:VEVENT
BEGIN:VEVENT
DTSTART;TZID=America/New_York:20260714T160000
DTEND;TZID=America/New_York:20260714T200000
DTSTAMP:20260423T122947
CREATED:20260414T195530Z
LAST-MODIFIED:20260414T195530Z
UID:10000827-1784044800-1784059200@c4innovates.com
SUMMARY:Certified Peer Recovery Specialist Training
DESCRIPTION:This RI Department of Behavioral Healthcare\, Developmental Disabilities\, and Hospitals 46-hour Certified Peer Recovery Specialist (CPRS) training is designed to prepare individuals with lived experience in mental health or substance use recovery to support others. The curriculum focuses on four core domains: advocacy\, mentoring and education\, recovery and wellness support\, and ethical responsibility. \n  \nBy offering insight into the recovery process based on their own experience\, peer recovery specialists are able to provide a unique perspective while providing recovery support services. The CPRS is not a sponsor\, case manager\, or a therapist\, but rather a role model\, mentor\, advocate\, and motivator. \n  \nLearn more and register. \n  \nTrainer: Stacy Levin\, RICARES \n 
URL:https://c4innovates.com/event/certified-peer-recovery-specialist-training-4/2026-07-14/
LOCATION:RICARES\, 166 Valley Street\, Suite 105\, Providence\, RI\, 02909\, United States
ORGANIZER;CN="RICARES":MAILTO:slevin@ricares.org
END:VEVENT
BEGIN:VEVENT
DTSTART;TZID=America/New_York:20260716T160000
DTEND;TZID=America/New_York:20260716T200000
DTSTAMP:20260423T122948
CREATED:20260414T195530Z
LAST-MODIFIED:20260414T195530Z
UID:10000828-1784217600-1784232000@c4innovates.com
SUMMARY:Certified Peer Recovery Specialist Training
DESCRIPTION:This RI Department of Behavioral Healthcare\, Developmental Disabilities\, and Hospitals 46-hour Certified Peer Recovery Specialist (CPRS) training is designed to prepare individuals with lived experience in mental health or substance use recovery to support others. The curriculum focuses on four core domains: advocacy\, mentoring and education\, recovery and wellness support\, and ethical responsibility. \n  \nBy offering insight into the recovery process based on their own experience\, peer recovery specialists are able to provide a unique perspective while providing recovery support services. The CPRS is not a sponsor\, case manager\, or a therapist\, but rather a role model\, mentor\, advocate\, and motivator. \n  \nLearn more and register. \n  \nTrainer: Stacy Levin\, RICARES \n 
URL:https://c4innovates.com/event/certified-peer-recovery-specialist-training-4/2026-07-16/
LOCATION:RICARES\, 166 Valley Street\, Suite 105\, Providence\, RI\, 02909\, United States
ORGANIZER;CN="RICARES":MAILTO:slevin@ricares.org
END:VEVENT
BEGIN:VEVENT
DTSTART;TZID=America/New_York:20260718T100000
DTEND;TZID=America/New_York:20260718T160000
DTSTAMP:20260423T122948
CREATED:20260414T195530Z
LAST-MODIFIED:20260414T195530Z
UID:10000829-1784368800-1784390400@c4innovates.com
SUMMARY:Certified Peer Recovery Specialist Training
DESCRIPTION:This RI Department of Behavioral Healthcare\, Developmental Disabilities\, and Hospitals 46-hour Certified Peer Recovery Specialist (CPRS) training is designed to prepare individuals with lived experience in mental health or substance use recovery to support others. The curriculum focuses on four core domains: advocacy\, mentoring and education\, recovery and wellness support\, and ethical responsibility. \n  \nBy offering insight into the recovery process based on their own experience\, peer recovery specialists are able to provide a unique perspective while providing recovery support services. The CPRS is not a sponsor\, case manager\, or a therapist\, but rather a role model\, mentor\, advocate\, and motivator. \n  \nLearn more and register. \n  \nTrainer: Stacy Levin\, RICARES \n 
URL:https://c4innovates.com/event/certified-peer-recovery-specialist-training-4/2026-07-18/
LOCATION:RICARES\, 166 Valley Street\, Suite 105\, Providence\, RI\, 02909\, United States
ORGANIZER;CN="RICARES":MAILTO:slevin@ricares.org
END:VEVENT
BEGIN:VEVENT
DTSTART;TZID=America/New_York:20260721T160000
DTEND;TZID=America/New_York:20260721T200000
DTSTAMP:20260423T122948
CREATED:20260414T195530Z
LAST-MODIFIED:20260414T195530Z
UID:10000830-1784649600-1784664000@c4innovates.com
SUMMARY:Certified Peer Recovery Specialist Training
DESCRIPTION:This RI Department of Behavioral Healthcare\, Developmental Disabilities\, and Hospitals 46-hour Certified Peer Recovery Specialist (CPRS) training is designed to prepare individuals with lived experience in mental health or substance use recovery to support others. The curriculum focuses on four core domains: advocacy\, mentoring and education\, recovery and wellness support\, and ethical responsibility. \n  \nBy offering insight into the recovery process based on their own experience\, peer recovery specialists are able to provide a unique perspective while providing recovery support services. The CPRS is not a sponsor\, case manager\, or a therapist\, but rather a role model\, mentor\, advocate\, and motivator. \n  \nLearn more and register. \n  \nTrainer: Stacy Levin\, RICARES \n 
URL:https://c4innovates.com/event/certified-peer-recovery-specialist-training-4/2026-07-21/
LOCATION:RICARES\, 166 Valley Street\, Suite 105\, Providence\, RI\, 02909\, United States
ORGANIZER;CN="RICARES":MAILTO:slevin@ricares.org
END:VEVENT
BEGIN:VEVENT
DTSTART;TZID=America/New_York:20260723T160000
DTEND;TZID=America/New_York:20260723T200000
DTSTAMP:20260423T122948
CREATED:20260414T195530Z
LAST-MODIFIED:20260414T195530Z
UID:10000831-1784822400-1784836800@c4innovates.com
SUMMARY:Certified Peer Recovery Specialist Training
DESCRIPTION:This RI Department of Behavioral Healthcare\, Developmental Disabilities\, and Hospitals 46-hour Certified Peer Recovery Specialist (CPRS) training is designed to prepare individuals with lived experience in mental health or substance use recovery to support others. The curriculum focuses on four core domains: advocacy\, mentoring and education\, recovery and wellness support\, and ethical responsibility. \n  \nBy offering insight into the recovery process based on their own experience\, peer recovery specialists are able to provide a unique perspective while providing recovery support services. The CPRS is not a sponsor\, case manager\, or a therapist\, but rather a role model\, mentor\, advocate\, and motivator. \n  \nLearn more and register. \n  \nTrainer: Stacy Levin\, RICARES \n 
URL:https://c4innovates.com/event/certified-peer-recovery-specialist-training-4/2026-07-23/
LOCATION:RICARES\, 166 Valley Street\, Suite 105\, Providence\, RI\, 02909\, United States
ORGANIZER;CN="RICARES":MAILTO:slevin@ricares.org
END:VEVENT
BEGIN:VEVENT
DTSTART;TZID=America/New_York:20260728T160000
DTEND;TZID=America/New_York:20260728T200000
DTSTAMP:20260423T122948
CREATED:20260414T195530Z
LAST-MODIFIED:20260414T195530Z
UID:10000832-1785254400-1785268800@c4innovates.com
SUMMARY:Certified Peer Recovery Specialist Training
DESCRIPTION:This RI Department of Behavioral Healthcare\, Developmental Disabilities\, and Hospitals 46-hour Certified Peer Recovery Specialist (CPRS) training is designed to prepare individuals with lived experience in mental health or substance use recovery to support others. The curriculum focuses on four core domains: advocacy\, mentoring and education\, recovery and wellness support\, and ethical responsibility. \n  \nBy offering insight into the recovery process based on their own experience\, peer recovery specialists are able to provide a unique perspective while providing recovery support services. The CPRS is not a sponsor\, case manager\, or a therapist\, but rather a role model\, mentor\, advocate\, and motivator. \n  \nLearn more and register. \n  \nTrainer: Stacy Levin\, RICARES \n 
URL:https://c4innovates.com/event/certified-peer-recovery-specialist-training-4/2026-07-28/
LOCATION:RICARES\, 166 Valley Street\, Suite 105\, Providence\, RI\, 02909\, United States
ORGANIZER;CN="RICARES":MAILTO:slevin@ricares.org
END:VEVENT
BEGIN:VEVENT
DTSTART;TZID=America/New_York:20260730T160000
DTEND;TZID=America/New_York:20260730T200000
DTSTAMP:20260423T122948
CREATED:20260414T195530Z
LAST-MODIFIED:20260414T195530Z
UID:10000833-1785427200-1785441600@c4innovates.com
SUMMARY:Certified Peer Recovery Specialist Training
DESCRIPTION:This RI Department of Behavioral Healthcare\, Developmental Disabilities\, and Hospitals 46-hour Certified Peer Recovery Specialist (CPRS) training is designed to prepare individuals with lived experience in mental health or substance use recovery to support others. The curriculum focuses on four core domains: advocacy\, mentoring and education\, recovery and wellness support\, and ethical responsibility. \n  \nBy offering insight into the recovery process based on their own experience\, peer recovery specialists are able to provide a unique perspective while providing recovery support services. The CPRS is not a sponsor\, case manager\, or a therapist\, but rather a role model\, mentor\, advocate\, and motivator. \n  \nLearn more and register. \n  \nTrainer: Stacy Levin\, RICARES \n 
URL:https://c4innovates.com/event/certified-peer-recovery-specialist-training-4/2026-07-30/
LOCATION:RICARES\, 166 Valley Street\, Suite 105\, Providence\, RI\, 02909\, United States
ORGANIZER;CN="RICARES":MAILTO:slevin@ricares.org
END:VEVENT
BEGIN:VEVENT
DTSTART;TZID=America/New_York:20260801T100000
DTEND;TZID=America/New_York:20260801T160000
DTSTAMP:20260423T122948
CREATED:20260414T195530Z
LAST-MODIFIED:20260414T195530Z
UID:10000834-1785578400-1785600000@c4innovates.com
SUMMARY:Certified Peer Recovery Specialist Training
DESCRIPTION:This RI Department of Behavioral Healthcare\, Developmental Disabilities\, and Hospitals 46-hour Certified Peer Recovery Specialist (CPRS) training is designed to prepare individuals with lived experience in mental health or substance use recovery to support others. The curriculum focuses on four core domains: advocacy\, mentoring and education\, recovery and wellness support\, and ethical responsibility. \n  \nBy offering insight into the recovery process based on their own experience\, peer recovery specialists are able to provide a unique perspective while providing recovery support services. The CPRS is not a sponsor\, case manager\, or a therapist\, but rather a role model\, mentor\, advocate\, and motivator. \n  \nLearn more and register. \n  \nTrainer: Stacy Levin\, RICARES \n 
URL:https://c4innovates.com/event/certified-peer-recovery-specialist-training-4/2026-08-01/
LOCATION:RICARES\, 166 Valley Street\, Suite 105\, Providence\, RI\, 02909\, United States
ORGANIZER;CN="RICARES":MAILTO:slevin@ricares.org
END:VEVENT
BEGIN:VEVENT
DTSTART;TZID=America/New_York:20260804T160000
DTEND;TZID=America/New_York:20260804T200000
DTSTAMP:20260423T122948
CREATED:20260414T195530Z
LAST-MODIFIED:20260414T195530Z
UID:10000835-1785859200-1785873600@c4innovates.com
SUMMARY:Certified Peer Recovery Specialist Training
DESCRIPTION:This RI Department of Behavioral Healthcare\, Developmental Disabilities\, and Hospitals 46-hour Certified Peer Recovery Specialist (CPRS) training is designed to prepare individuals with lived experience in mental health or substance use recovery to support others. The curriculum focuses on four core domains: advocacy\, mentoring and education\, recovery and wellness support\, and ethical responsibility. \n  \nBy offering insight into the recovery process based on their own experience\, peer recovery specialists are able to provide a unique perspective while providing recovery support services. The CPRS is not a sponsor\, case manager\, or a therapist\, but rather a role model\, mentor\, advocate\, and motivator. \n  \nLearn more and register. \n  \nTrainer: Stacy Levin\, RICARES \n 
URL:https://c4innovates.com/event/certified-peer-recovery-specialist-training-4/2026-08-04/
LOCATION:RICARES\, 166 Valley Street\, Suite 105\, Providence\, RI\, 02909\, United States
ORGANIZER;CN="RICARES":MAILTO:slevin@ricares.org
END:VEVENT
END:VCALENDAR